BEGIN:VCALENDAR
VERSION:2.0
PRODID:-//Park and Recreation - Prince Georges County MD - ECPv6.15.18//NONSGML v1.0//EN
CALSCALE:GREGORIAN
METHOD:PUBLISH
X-WR-CALNAME:Park and Recreation - Prince Georges County MD
X-ORIGINAL-URL:https://wellness.pgparks.com
X-WR-CALDESC:Events for Park and Recreation - Prince Georges County MD
REFRESH-INTERVAL;VALUE=DURATION:PT1H
X-Robots-Tag:noindex
X-PUBLISHED-TTL:PT1H
BEGIN:VTIMEZONE
TZID:America/New_York
BEGIN:DAYLIGHT
TZOFFSETFROM:-0500
TZOFFSETTO:-0400
TZNAME:EDT
DTSTART:20250309T070000
END:DAYLIGHT
BEGIN:STANDARD
TZOFFSETFROM:-0400
TZOFFSETTO:-0500
TZNAME:EST
DTSTART:20251102T060000
END:STANDARD
BEGIN:DAYLIGHT
TZOFFSETFROM:-0500
TZOFFSETTO:-0400
TZNAME:EDT
DTSTART:20260308T070000
END:DAYLIGHT
BEGIN:STANDARD
TZOFFSETFROM:-0400
TZOFFSETTO:-0500
TZNAME:EST
DTSTART:20261101T060000
END:STANDARD
BEGIN:DAYLIGHT
TZOFFSETFROM:-0500
TZOFFSETTO:-0400
TZNAME:EDT
DTSTART:20270314T070000
END:DAYLIGHT
BEGIN:STANDARD
TZOFFSETFROM:-0400
TZOFFSETTO:-0500
TZNAME:EST
DTSTART:20271107T060000
END:STANDARD
END:VTIMEZONE
BEGIN:VEVENT
DTSTART;TZID=America/New_York:20260502T120000
DTEND;TZID=America/New_York:20260502T130000
DTSTAMP:20260421T165441
CREATED:20260313T203820Z
LAST-MODIFIED:20260316T162257Z
UID:10002584-1777723200-1777726800@wellness.pgparks.com
SUMMARY:Bollywood Fit Flow Dance Workshop
DESCRIPTION:Kick off May is Fitness Month with a high-energy Bollywood Fit Flow at Harmony Hall\, a dance session full of rhythm\, movement\, and fun! After the session\, head to the first floor lobby for a lively Asian American & Pacific Islander Heritage Month celebration featuring delicious food\, engaging entertainment\, and a meaningful tribute to AAPI culture. FREE for all ages.
URL:https://wellness.pgparks.com/event_list/bollywood-fit-flow-dance-workshop
CATEGORIES:All Ages,Free,May is Fitness Month,Public Reception,Workshops
ATTACH;FMTTYPE=image/jpeg:https://wellness.pgparks.com/wp-content/uploads/2026/03/Bollywood-Fit-Flow-2026-600x400-1.jpg
END:VEVENT
BEGIN:VEVENT
DTSTART;TZID=America/New_York:20260503T103000
DTEND;TZID=America/New_York:20260503T113000
DTSTAMP:20260421T165441
CREATED:20260415T171200Z
LAST-MODIFIED:20260417T172610Z
UID:10003386-1777804200-1777807800@wellness.pgparks.com
SUMMARY:Gardening for All: Organic Pest Controls
DESCRIPTION:Connect with sustainable gardening and landscaping as you learn practical tips on backyard design\, unique uses of plant materials\, and seasonal maintenance while practicing hands‑on skills in our gardens to support the native ecosystem. Please wear outdoor‑appropriate clothing and sun protection\, and feel free to call with any questions.
URL:https://wellness.pgparks.com/event_list/gardening-for-all-organic-pest-controls
CATEGORIES:18 and up,Free,Nature & Outdoor,Teens,Workshops
ATTACH;FMTTYPE=image/jpeg:https://wellness.pgparks.com/wp-content/uploads/2026/04/NatureCommunityDay25-167.jpg
END:VEVENT
BEGIN:VEVENT
DTSTART;TZID=America/New_York:20260507T130000
DTEND;TZID=America/New_York:20260507T143000
DTSTAMP:20260421T165441
CREATED:20251111T222634Z
LAST-MODIFIED:20260417T154951Z
UID:10000101-1778158800-1778164200@wellness.pgparks.com
SUMMARY:Hawaiian Dance Workshop
DESCRIPTION:Experience the transformative power of Hawaiian hula. We invite older adults to engage with this Polynesian art form and connect with Hawaii’s rich heritage through graceful movements\, music\, and captivating storytelling. With gentle exercise benefits\, cognitive stimulation\, and social connection\, hula nourishes both body and soul.
URL:https://wellness.pgparks.com/event_list/hawaiian-dance-workshop
CATEGORIES:Arts,Free,May is Fitness Month,Senior,Workshops
ATTACH;FMTTYPE=image/jpeg:https://wellness.pgparks.com/wp-content/uploads/2024/11/WebsiteBlocks20242.jpg
END:VEVENT
BEGIN:VEVENT
DTSTART;TZID=America/New_York:20260508T130000
DTEND;TZID=America/New_York:20260508T140000
DTSTAMP:20260421T165441
CREATED:20260227T162236Z
LAST-MODIFIED:20260312T164628Z
UID:10002329-1778245200-1778248800@wellness.pgparks.com
SUMMARY:Homeschool Animal Science: Cow Hoof Science
DESCRIPTION:Cow Hooves 101! Learn how cow hooves play an important role in people’s everyday lives at this hands-on farm education program. Learn why hoof health matters and how farmers help keep their cows comfortable\, healthy\, and happy.
URL:https://wellness.pgparks.com/event_list/homeschool-animal-science-cow-hoof-science
CATEGORIES:Lifestyle & Learning,Nature & Outdoor,Workshops,Youth
ATTACH;FMTTYPE=image/jpeg:https://wellness.pgparks.com/wp-content/uploads/2024/10/Cattle-Breeds.jpg
END:VEVENT
BEGIN:VEVENT
DTSTART;TZID=America/New_York:20260508T180000
DTEND;TZID=America/New_York:20260508T200000
DTSTAMP:20260421T165441
CREATED:20260114T131720Z
LAST-MODIFIED:20260417T153552Z
UID:10000958-1778263200-1778270400@wellness.pgparks.com
SUMMARY:Wildlife Help 101
DESCRIPTION:What do you do when you find orphaned\, injured\, or healthy wildlife? Can you identify them accurately? Who do you call? How do you stay safe when approaching wildlife? Are you interested in getting involved with wildlife rehab? Learn all this and more in our four-hour\, two-part class! You must register for part one to register for part two! A certificate will be given upon completion of both classes. \n\n\n\n \n\n\n\nPart 1: Fri.\, May 8\, 6-8 pm \n\n\n\nPart 2: Sat\, May 9\, 10 am-12 noon
URL:https://wellness.pgparks.com/event_list/wildlife-help-101/2026-05-08
CATEGORIES:18 and up,Nature & Outdoor,Teens,Workshops
ATTACH;FMTTYPE=image/png:https://wellness.pgparks.com/wp-content/uploads/2026/01/Website-Event-500x500-Wildlife-Help-101.png
END:VEVENT
BEGIN:VEVENT
DTSTART;TZID=America/New_York:20260509T100000
DTEND;TZID=America/New_York:20260509T120000
DTSTAMP:20260421T165441
CREATED:20260114T131720Z
LAST-MODIFIED:20260417T153552Z
UID:10000959-1778320800-1778328000@wellness.pgparks.com
SUMMARY:Wildlife Help 101
DESCRIPTION:What do you do when you find orphaned\, injured\, or healthy wildlife? Can you identify them accurately? Who do you call? How do you stay safe when approaching wildlife? Are you interested in getting involved with wildlife rehab? Learn all this and more in our four-hour\, two-part class! You must register for part one to register for part two! A certificate will be given upon completion of both classes. \n\n\n\n \n\n\n\nPart 1: Fri.\, May 8\, 6-8 pm \n\n\n\nPart 2: Sat\, May 9\, 10 am-12 noon
URL:https://wellness.pgparks.com/event_list/wildlife-help-101/2026-05-09
CATEGORIES:18 and up,Nature & Outdoor,Teens,Workshops
ATTACH;FMTTYPE=image/png:https://wellness.pgparks.com/wp-content/uploads/2026/01/Website-Event-500x500-Wildlife-Help-101.png
END:VEVENT
BEGIN:VEVENT
DTSTART;TZID=America/New_York:20260509T110000
DTEND;TZID=America/New_York:20260509T120000
DTSTAMP:20260421T165441
CREATED:20260226T181245Z
LAST-MODIFIED:20260417T152633Z
UID:10002317-1778324400-1778328000@wellness.pgparks.com
SUMMARY:Rooted in History: Plant Your Own Herb Container
DESCRIPTION:Explore what herbs were grown in colonial Maryland and how they were used in recipes\, household products\, and as medicine. Plant your own herb container to take home. All plants and supplies will be provided. \n\n\n\nPre-registration through ParksDirect required.
URL:https://wellness.pgparks.com/event_list/rooted-in-history-plant-your-own-herb-container
CATEGORIES:History,Nature & Outdoor,Workshops
ATTACH;FMTTYPE=image/jpeg:https://wellness.pgparks.com/wp-content/uploads/2026/02/Rooted-in-History-2026-600x400-1.jpg
END:VEVENT
BEGIN:VEVENT
DTSTART;TZID=America/New_York:20260509T140000
DTEND;TZID=America/New_York:20260509T150000
DTSTAMP:20260421T165441
CREATED:20251111T222704Z
LAST-MODIFIED:20260417T152153Z
UID:10000191-1778335200-1778338800@wellness.pgparks.com
SUMMARY:Paper Lotus Lantern Workshop
DESCRIPTION:Artist Sookkyung Park will lead participants in creating small lamps inspired by the lotus flower. Participants will explore the cultural and historical significance of the lotus while learning craft skills. Attendees will make their lotus lamps\, symbolizing purity and enlightenment. This experience offers a creative and therapeutic activity\, providing time for personal reflection. The fee includes all materials.
URL:https://wellness.pgparks.com/event_list/paper-lotus-lantern-workshop
CATEGORIES:18 and up,Arts,Workshops
ATTACH;FMTTYPE=image/png:https://wellness.pgparks.com/wp-content/uploads/2025/07/Paper-Lotus.png
END:VEVENT
BEGIN:VEVENT
DTSTART;TZID=America/New_York:20260509T140000
DTEND;TZID=America/New_York:20260509T160000
DTSTAMP:20260421T165441
CREATED:20260401T201050Z
LAST-MODIFIED:20260417T152038Z
UID:10003280-1778335200-1778342400@wellness.pgparks.com
SUMMARY:Nature Crafts -Mother's Day Craft
DESCRIPTION:Go green with your creativity as you enjoy hands‑on nature‑inspired craft activities and discover what you can design using materials and inspiration from the environment. Create a spring floral craft perfect for Mother’s Day at Clearwater Nature Center!
URL:https://wellness.pgparks.com/event_list/nature-crafts-mothers-day-craft
CATEGORIES:All Ages,Nature & Outdoor,Workshops
ATTACH;FMTTYPE=image/jpeg:https://wellness.pgparks.com/wp-content/uploads/2026/03/CNC-Exterior.jpg
END:VEVENT
BEGIN:VEVENT
DTSTART;TZID=America/New_York:20260512T180000
DTEND;TZID=America/New_York:20260512T190000
DTSTAMP:20260421T165441
CREATED:20260319T151805Z
LAST-MODIFIED:20260417T151520Z
UID:10003106-1778608800-1778612400@wellness.pgparks.com
SUMMARY:Women’s Wellness Nutrition Workshop
DESCRIPTION:May is Women’s Health Month! Join us for this interactive virtual workshop led by a Giant nutritionist\, where we’ll explore the unique nutritional needs of women\, particularly as they age. You’ll discover practical tips for incorporating these essential nutrients into your daily diet to support vibrant health through every stage of life. \n\n\n\nRegistration required. All ages welcome; FREE.
URL:https://wellness.pgparks.com/event_list/womens-wellness-nutrition-workshop
CATEGORIES:All Ages,Free,May is Fitness Month,Virtual,Workshops
ATTACH;FMTTYPE=image/jpeg:https://wellness.pgparks.com/wp-content/uploads/2026/03/Womens-wellness-nutrition-workshop-2026-600x400-1.jpg
END:VEVENT
BEGIN:VEVENT
DTSTART;TZID=America/New_York:20260513T113000
DTEND;TZID=America/New_York:20260513T123000
DTSTAMP:20260421T165441
CREATED:20260319T151047Z
LAST-MODIFIED:20260323T160256Z
UID:10003103-1778671800-1778675400@wellness.pgparks.com
SUMMARY:Diabetes Prevention Workshop
DESCRIPTION:Learn practical strategies and tools to take control of your health. This engaging session focuses on lifestyle changes\, nutrition tips\, and exercise ideas to help reduce the risk of developing diabetes. Perfect for anyone looking to make informed and sustainable choices for a healthier future. Stay after the session for a free health screening!
URL:https://wellness.pgparks.com/event_list/diabetes-prevention-workshop-2
CATEGORIES:18 and up,Free,May is Fitness Month,Workshops
ATTACH;FMTTYPE=image/jpeg:https://wellness.pgparks.com/wp-content/uploads/2026/03/Diabetes-Prevention-2026-600x400-1.jpg
END:VEVENT
BEGIN:VEVENT
DTSTART;TZID=America/New_York:20260515T160000
DTEND;TZID=America/New_York:20260515T180000
DTSTAMP:20260421T165441
CREATED:20260417T132052Z
LAST-MODIFIED:20260417T145557Z
UID:10003389-1778860800-1778868000@wellness.pgparks.com
SUMMARY:Nature Makers Space: Polymer Clay Hair Accessories
DESCRIPTION:Bring out your creative genius as you explore fun projects that build self‑confidence and self‑expression\, from making and decorating various crafts to experimenting with natural‑world materials. Together\, we’ll embark on imaginative endeavors as we discover what your hands can create using nature’s resources.
URL:https://wellness.pgparks.com/event_list/nature-makers-space-polymer-clay-hair-accessories
CATEGORIES:Arts,Nature & Outdoor,Teens,Workshops
ATTACH;FMTTYPE=image/jpeg:https://wellness.pgparks.com/wp-content/uploads/2024/10/MRNC-Nature-Craft-1-e1749217002666.jpg
END:VEVENT
BEGIN:VEVENT
DTSTART;TZID=America/New_York:20260516T130000
DTEND;TZID=America/New_York:20260516T150000
DTSTAMP:20260421T165441
CREATED:20260402T115606Z
LAST-MODIFIED:20260417T194434Z
UID:10003283-1778936400-1778943600@wellness.pgparks.com
SUMMARY:Native Plant Gardening
DESCRIPTION:Discover the fundamentals of native plant gardening with experts from Chesapeake Natives as you learn how to create an eco‑friendly garden using regional native plants—plus receive a selection of native plant seeds to start your own garden at home.
URL:https://wellness.pgparks.com/event_list/native-plant-gardening
CATEGORIES:18 and up,Nature & Outdoor,Workshops
ATTACH;FMTTYPE=image/jpeg:https://wellness.pgparks.com/wp-content/uploads/2026/04/DigIntoHealth-Gardening25-90.jpg
END:VEVENT
BEGIN:VEVENT
DTSTART;TZID=America/New_York:20260517T103000
DTEND;TZID=America/New_York:20260517T113000
DTSTAMP:20260421T165441
CREATED:20260417T140918Z
LAST-MODIFIED:20260417T193317Z
UID:10003394-1779013800-1779017400@wellness.pgparks.com
SUMMARY:Gardening for all: Spring Salads
DESCRIPTION:Connect with sustainable gardening and landscaping as you learn practical tips on backyard design\, unique uses of plant materials\, and seasonal maintenance while practicing hands‑on skills in our gardens to support the native ecosystem. Please wear outdoor‑appropriate clothing and sun protection\, and feel free to call us with any questions.
URL:https://wellness.pgparks.com/event_list/gardening-for-all-spring-salads
CATEGORIES:18 and up,Free,Nature & Outdoor,Teens,Workshops
ATTACH;FMTTYPE=image/jpeg:https://wellness.pgparks.com/wp-content/uploads/2026/04/Gardening-Hands.jpg
END:VEVENT
BEGIN:VEVENT
DTSTART;TZID=America/New_York:20260531T090000
DTEND;TZID=America/New_York:20260531T113000
DTSTAMP:20260421T165441
CREATED:20260326T132924Z
LAST-MODIFIED:20260326T132936Z
UID:10003168-1780218000-1780227000@wellness.pgparks.com
SUMMARY:Fishing Trip
DESCRIPTION:Learn about casting\, handling fish\, fishing safety\, and fish biology in this beginner‑friendly\, weather‑dependent program while enjoying a morning of fishing on the Anacostia River from a pontoon boat. Rods and bait are provided (or you may bring your own)\, and children under 16 must be accompanied by a registered adult participant.
URL:https://wellness.pgparks.com/event_list/fishing-trip-2
CATEGORIES:Lifestyle & Learning,Nature & Outdoor,Teens,Workshops
ATTACH;FMTTYPE=image/jpeg:https://wellness.pgparks.com/wp-content/uploads/2023/07/BWP-4_Fishing1.jpg
END:VEVENT
BEGIN:VEVENT
DTSTART;TZID=America/New_York:20260606T130000
DTEND;TZID=America/New_York:20260606T160000
DTSTAMP:20260421T165441
CREATED:20251111T222620Z
LAST-MODIFIED:20260413T190658Z
UID:10000057-1780750800-1780761600@wellness.pgparks.com
SUMMARY:Canceled - Creative Entrepreneurship & Scaling Your Business
DESCRIPTION:Take your creative practice to the next level by learning business strategies\, marketing\, and growth techniques to expand your artistic brand and maximize success.
URL:https://wellness.pgparks.com/event_list/creative-entrepreneurship-scaling-your-business
CATEGORIES:All Ages,Arts,Free,Special Event,Special Events,Workshops
END:VEVENT
END:VCALENDAR